BEGIN:VCALENDAR
VERSION:2.0
PRODID:-//Stop Concussions - ECPv5.14.2.1//NONSGML v1.0//EN
CALSCALE:GREGORIAN
METHOD:PUBLISH
X-WR-CALNAME:Stop Concussions
X-ORIGINAL-URL:https://stopconcussions.com
X-WR-CALDESC:Events for Stop Concussions
REFRESH-INTERVAL;VALUE=DURATION:PT1H
X-Robots-Tag:noindex
X-PUBLISHED-TTL:PT1H
BEGIN:VTIMEZONE
TZID:UTC
BEGIN:STANDARD
TZOFFSETFROM:+0000
TZOFFSETTO:+0000
TZNAME:UTC
DTSTART:20230101T000000
END:STANDARD
END:VTIMEZONE
BEGIN:VEVENT
DTSTART;VALUE=DATE:20230422
DTEND;VALUE=DATE:20230425
DTSTAMP:20260425T152253
CREATED:20221003T214605Z
LAST-MODIFIED:20221003T214605Z
UID:1181-1682121600-1682380799@stopconcussions.com
SUMMARY:JNJ - Corporate Hockey Tournament
DESCRIPTION:We are looking forward to hosting the 39th J&J group of companies to TORONTO\, ONTARIO. \nLooking to create your own corporate hockey tournament – ask us!
URL:https://stopconcussions.com/event/jnj-corporate-hockey-tournament/
ORGANIZER;CN="Shoot%20For%20A%20Cure":MAILTO:toni@29sports.com
END:VEVENT
END:VCALENDAR