BEGIN:VCALENDAR
VERSION:2.0
PRODID:-//Stop Concussions - ECPv5.14.2.1//NONSGML v1.0//EN
CALSCALE:GREGORIAN
METHOD:PUBLISH
X-WR-CALNAME:Stop Concussions
X-ORIGINAL-URL:https://stopconcussions.com
X-WR-CALDESC:Events for Stop Concussions
REFRESH-INTERVAL;VALUE=DURATION:PT1H
X-Robots-Tag:noindex
X-PUBLISHED-TTL:PT1H
BEGIN:VTIMEZONE
TZID:UTC
BEGIN:STANDARD
TZOFFSETFROM:+0000
TZOFFSETTO:+0000
TZNAME:UTC
DTSTART:20220101T000000
END:STANDARD
END:VTIMEZONE
BEGIN:VEVENT
DTSTART;TZID=UTC:20220207T080000
DTEND;TZID=UTC:20220214T170000
DTSTAMP:20260419T121032
CREATED:20220208T132904Z
LAST-MODIFIED:20220208T132904Z
UID:955-1644220800-1644858000@stopconcussions.com
SUMMARY:Hockey Memorabilia
DESCRIPTION:Welcome to our one-stop hockey memorabilia shop!\nStopConcussions Foundation\, Connected and Ice Hockey Classic has been supporting athletes suffering from concussions and mental health for the past 15 years. \nAs part of our shop\, we feature merchandise\, apparel\, and auction items. \nCheck out the “Jersey Off My Back” Auction. Looking to make a donation check out the “Give a Little…Get a Lot!” page.
URL:https://stopconcussions.com/event/hockey-memorabilia/
CATEGORIES:Online Auction
ATTACH;FMTTYPE=image/jpeg:https://stopconcussions.com/wp-content/uploads/2022/02/GL-Jersey-Off-Back-Pst-F.jpg
ORGANIZER;CN="Stop%20Concussions%20Foundation":MAILTO:toni@stopconcussions.com
END:VEVENT
END:VCALENDAR