BEGIN:VCALENDAR
VERSION:2.0
PRODID:-//Stop Concussions - ECPv5.14.2.1//NONSGML v1.0//EN
CALSCALE:GREGORIAN
METHOD:PUBLISH
X-WR-CALNAME:Stop Concussions
X-ORIGINAL-URL:https://stopconcussions.com
X-WR-CALDESC:Events for Stop Concussions
REFRESH-INTERVAL;VALUE=DURATION:PT1H
X-Robots-Tag:noindex
X-PUBLISHED-TTL:PT1H
BEGIN:VTIMEZONE
TZID:UTC
BEGIN:STANDARD
TZOFFSETFROM:+0000
TZOFFSETTO:+0000
TZNAME:UTC
DTSTART:20220101T000000
END:STANDARD
END:VTIMEZONE
BEGIN:VEVENT
DTSTART;TZID=UTC:20220816T100000
DTEND;TZID=UTC:20220816T190000
DTSTAMP:20260425T134547
CREATED:20220204T145211Z
LAST-MODIFIED:20220316T222354Z
UID:945-1660644000-1660676400@stopconcussions.com
SUMMARY:Golf Tournament 45th Anniversary Slap Shot - WINNIPEG\, MANITOBA
DESCRIPTION:45th Anniversary Slap Shot Golf Tournament\nThe 45th Anniversary Slap Shot Golf Tournament is held in support of the Stop Concussions Foundation\, Connected – A Mental Health Initiative and Shoot for a Cure (SFAC). \nThe Celebrity Golf Tournaments will beheld at a well-known golf course in each city across North America.  Cities to be confirmed are:  Philadelphia\, Boston\, Toronto\, Winnipeg\, Thunder Bay\, Halifax\, Calgary\, Edmonton and Whistler.  Want to host a tournament in your city – email us HERE. \nJoin our members:  Dave Hanson\, Jeff Carlson\, Johnny Upton\, Dave “Killer” Carlson\, Dr. Hook\, and the goalie Denis Lemieux (*celebrities subject to appear). \nWINNIPEG – Spaces are selling fast!  RESERVE HERE \n\nSingle: $225\nFoursome: $800\nVIP Foursome: $1\,200\n\nSPONSORSHIP PACKAGES \n\nPremium VIP: $4000\nVIP Foursome: $1\,200\nKick off Hole Reception: $3\,000\nActivity Sponsor: $1\,000\nMajor Sponsor: $2\,000\nHole Sponsor: $250\nSingle Player: $225\n\nFor more details:  CLICK HERE \nUniversal Studios and Hansonbrothers.net are not affiliated\, endorsing or represented in any way of the event.
URL:https://stopconcussions.com/event/golf-tournament-45th-anniversary-slapshot/
LOCATION:St. Boniface Golf Course\, 100 Rue Youville\, Winnipeg\, Manitoba\, R2H 2S1\, Canada
CATEGORIES:Golf Tournament
ATTACH;FMTTYPE=image/jpeg:https://stopconcussions.com/wp-content/uploads/2022/02/45th-SlapShot-1Pg-Art-F2.jpg
ORGANIZER;CN="Stop%20Concussions%20Foundation":MAILTO:toni@stopconcussions.com
END:VEVENT
END:VCALENDAR